NAME	= Mosaic
DESCRIPTION	= 
UNIT	= 
DATAFILE_OFFSET	= 0
DATAFORMAT	= FLOAT
BYTEORDER_BIG	= FALSE
POSITION_XMIN	= 1636150.5000000000
POSITION_YMIN	= 4820029.0000000000
CELLCOUNT_X	= 11615
CELLCOUNT_Y	= 7286
CELLSIZE	= 1.0000000000
Z_FACTOR	= 1.000000
NODATA_VALUE	= -99999.000000
TOPTOBOTTOM	= FALSE
